BEGIN:VCALENDAR
VERSION:2.0
PRODID:-//Infinite Dance - ECPv6.15.20//NONSGML v1.0//EN
CALSCALE:GREGORIAN
METHOD:PUBLISH
X-ORIGINAL-URL:https://infinite.dance/de/
X-WR-CALDESC:Veranstaltungen für Infinite Dance
REFRESH-INTERVAL;VALUE=DURATION:PT1H
X-Robots-Tag:noindex
X-PUBLISHED-TTL:PT1H
BEGIN:VTIMEZONE
TZID:Europe/Berlin
BEGIN:DAYLIGHT
TZOFFSETFROM:+0100
TZOFFSETTO:+0200
TZNAME:CEST
DTSTART:20250330T010000
END:DAYLIGHT
BEGIN:STANDARD
TZOFFSETFROM:+0200
TZOFFSETTO:+0100
TZNAME:CET
DTSTART:20251026T010000
END:STANDARD
BEGIN:DAYLIGHT
TZOFFSETFROM:+0100
TZOFFSETTO:+0200
TZNAME:CEST
DTSTART:20260329T010000
END:DAYLIGHT
BEGIN:STANDARD
TZOFFSETFROM:+0200
TZOFFSETTO:+0100
TZNAME:CET
DTSTART:20261025T010000
END:STANDARD
BEGIN:DAYLIGHT
TZOFFSETFROM:+0100
TZOFFSETTO:+0200
TZNAME:CEST
DTSTART:20270328T010000
END:DAYLIGHT
BEGIN:STANDARD
TZOFFSETFROM:+0200
TZOFFSETTO:+0100
TZNAME:CET
DTSTART:20271031T010000
END:STANDARD
END:VTIMEZONE
BEGIN:VEVENT
DTSTART;VALUE=DATE:20261030
DTEND;VALUE=DATE:20261102
DTSTAMP:20260423T121626
CREATED:20250504T181127Z
LAST-MODIFIED:20260226T110509Z
UID:13297-1793318400-1793577599@infinite.dance
SUMMARY:Drehtanz und Sema im Herbst
DESCRIPTION:Drehtanz und Sema Ritual\nLass den Himmel sich auf der Erde widerspiegeln\, auf dass die Erde zum Himmel werden möge. Rumi \nTauche ein in die mystische Welt des Drehtanzes und des Sema Rituals\, bei dem musiziert\, gesungen und getanzt wird.  \nErfahre einen Zugang\, der die traditionelle Form\, Herkunft und geistige Ausrichtung des Sufismus ehrt\, übermittelt und gleichzeitig darüber hinaus geht.  \nDie Annäherung an den sakralen Tanz nach Infinite.dance ist intuitiv\, die spirituelle Ausrichtung universell. Geistig\, musikalisch und tänzerisch spannen wir einen weiten Bogen.  \nIm Brennpunkt steht das Herz jedes Einzelnen. Die Praxis besteht darin\, dass sich jeder für sich und gleichzeitig alle gemeinsam mit DEM verbinden\, was wichtig und wesentlich erscheint. Dabei sind die Praktizierenden eingeladen\, sich wie auf eine ganz individuelle Pilgerreise zu begeben. Hinaus aus begrenzenden Konzepten und hinein in die natürliche Weite des Geistes. Hier können grundliegende spirituelle Erfahrungen gemacht werden. Immer wieder auf ´s Neue. \nEin Raum entsteht für das individuelle\, das gemeinsame und das kollektive Gebet. Du kannst Dich mit oder ohne Vorkenntnisse in den Fluss von Musik\, hochgeistiger Poesie und Drehtanz mitnehmen lassen auf Deine individuelle Reise innerhalb beflügelnder Gruppendynamik. \nEs ist die Erfahrung und Feier des Essentiellen\, was uns bewegt. \nParamjyoti bietet eine Einführung für Anfänger und individuelles Coaching für Fortgeschrittene. Du kannst gerne Fragen mitbringen\, bist eingeladen über Schatten zu springen und „ohne Füsse zu reisen“ (Zitat aus einem Gedicht von Rumi). Erfahre das Geheimnis des Tanzes! \nVoraussetzungen: Keine \nInformationen auf der Veranstalter Website \nAnmelden kannst Du Dich hier
URL:https://infinite.dance/de/event/vertiefung-im-drehtanz-und-sema-2/
LOCATION:Kientalerhof\, Griesalpstraße 44\, Kiental\, 3723\, Switzerland
CATEGORIES:Seminar
ATTACH;FMTTYPE=image/jpeg:https://infinite.dance/wp-content/uploads/2023/12/Neues-Projekt-Kopie.jpg
ORGANIZER;CN="Kientalerhof":MAILTO:info@kientalerhof.ch
END:VEVENT
END:VCALENDAR