BEGIN:VCALENDAR
VERSION:2.0
PRODID:-//Infinite Dance - ECPv6.15.20//NONSGML v1.0//EN
CALSCALE:GREGORIAN
METHOD:PUBLISH
X-WR-CALNAME:Infinite Dance
X-ORIGINAL-URL:https://infinite.dance/de/
X-WR-CALDESC:Veranstaltungen für Infinite Dance
REFRESH-INTERVAL;VALUE=DURATION:PT1H
X-Robots-Tag:noindex
X-PUBLISHED-TTL:PT1H
BEGIN:VTIMEZONE
TZID:Europe/Berlin
BEGIN:DAYLIGHT
TZOFFSETFROM:+0100
TZOFFSETTO:+0200
TZNAME:CEST
DTSTART:20250330T010000
END:DAYLIGHT
BEGIN:STANDARD
TZOFFSETFROM:+0200
TZOFFSETTO:+0100
TZNAME:CET
DTSTART:20251026T010000
END:STANDARD
BEGIN:DAYLIGHT
TZOFFSETFROM:+0100
TZOFFSETTO:+0200
TZNAME:CEST
DTSTART:20260329T010000
END:DAYLIGHT
BEGIN:STANDARD
TZOFFSETFROM:+0200
TZOFFSETTO:+0100
TZNAME:CET
DTSTART:20261025T010000
END:STANDARD
BEGIN:DAYLIGHT
TZOFFSETFROM:+0100
TZOFFSETTO:+0200
TZNAME:CEST
DTSTART:20270328T010000
END:DAYLIGHT
BEGIN:STANDARD
TZOFFSETFROM:+0200
TZOFFSETTO:+0100
TZNAME:CET
DTSTART:20271031T010000
END:STANDARD
END:VTIMEZONE
BEGIN:VEVENT
DTSTART;VALUE=DATE:20260801
DTEND;VALUE=DATE:20260809
DTSTAMP:20260421T173727
CREATED:20260109T215205Z
LAST-MODIFIED:20260110T175903Z
UID:14080-1785542400-1786233599@infinite.dance
SUMMARY:International Le Martinet Yoga Festival 2026
DESCRIPTION:International Le Martinet Yoga Festival 2026\nSämtliche Informationen zum Festival findest Du hier: International Le Martinet Yoga Festival. \nParamjyoti wurde eingeladen\, zur Eröffnung des Festivals im weissen Zelt zu tanzen. Zusätzlich wird sie innerhalb eines Rituals tanzen\, im Konzert von Fanna-fi-Allah und an sakralen Plätzen des unglaublich schönen und weitläufigen Areals der Amritnam Sarovar Kundalini Yoga Schule. Eingebettet in kraftvolle unberührte Natur\, mit frischer Luft und klarem Wasser\, umringt von reinigend und kräftigend wirkenden Bergketten\, kann im Haus oder im Zelt geschlafen werden. Innerhalb des auf Transformation ausgelegten Festivalprogramms\, mit seinen Meditationen\, Workshops\, Abend Konzerten\, Feuerzeremonien und Ritualen wird Paramjyoti außerdem ebenfalls einen Workshop geben: eine Einweihung in den Drehtanz. Unterstützt und zusätzlich beflügelt vom Gesang der Priesterin Prasadini Kristin Mayer (Stimme\, Harmonium) und ihrer rein das Göttliche anrufenden Stimme. \nIm Workshop wie im Festival selbst sind Anfänger und Neueinsteiger ganz herzlich willkommen! Die Teilnahme bedarf keiner Vorkenntnisse. \nHier ein Coupon für 5% Preisreduktion auf die Festivalteilnahmegebühr: FESTIVAL2026Gib diesen ein\, wenn das Ticket auf International Le Martinet Yoga Festival in den Warenkorb gelegt wurde.
URL:https://infinite.dance/de/event/festival/
LOCATION:Amrit Nam Sarovar Kundalini Yoga School\, SAS La Bonne Porte 588 Chemin du Martinets\, Saint Michel les Portes\, 38650\, France
CATEGORIES:Festival,Seminar,Tanzdarbietung
ATTACH;FMTTYPE=image/jpeg:https://infinite.dance/wp-content/uploads/2026/01/Neues-Projekt-2.jpg
ORGANIZER;CN="Amrit Nam Sarovar Kundalini Yoga School":MAILTO:info@amritnam.com
END:VEVENT
END:VCALENDAR